BEGIN:VCALENDAR
VERSION:2.0
PRODID:-//Max Adventures - ECPv6.15.20//NONSGML v1.0//EN
CALSCALE:GREGORIAN
METHOD:PUBLISH
X-ORIGINAL-URL:https://www.maxadventures.co.uk
X-WR-CALDESC:Events for Max Adventures
REFRESH-INTERVAL;VALUE=DURATION:PT1H
X-Robots-Tag:noindex
X-PUBLISHED-TTL:PT1H
BEGIN:VTIMEZONE
TZID:UTC
BEGIN:STANDARD
TZOFFSETFROM:+0000
TZOFFSETTO:+0000
TZNAME:UTC
DTSTART:20250101T000000
END:STANDARD
END:VTIMEZONE
BEGIN:VEVENT
DTSTART;VALUE=DATE:20260620
DTEND;VALUE=DATE:20260621
DTSTAMP:20260423T173208
CREATED:20250920T083022Z
LAST-MODIFIED:20250929T212951Z
UID:330-1781913600-1781999999@www.maxadventures.co.uk
SUMMARY:Rock Skills - 1 Day Introduction
DESCRIPTION:Rock Skills – 1 Day Introduction Course\nThis course is aimed at anyone who is interested in making their first moves climbing outdoors or would like to experience what is on offer outside the climbing wall. You will have the chance to explore different aspects of the sport and a mix of rock types. \nExample of typical program content:\n• Get hands on bouldering and rock climbing\n• Learn to tie in and belay\n• Improve your climbing movement skills.\n• Abseiling \n  \nIs It For Me? \nThe one day course is aimed at anyone looking to develop their skills enjoying the rich variety of rock climbing on offer here in North Wales. As such it is ideal for: complete novices\, as a refresher if you haven’t climbed in a while\, active indoor wall climbers that have little or no experience of climbing outside. You don’t have to have any previous experience of rock climbing although being fit and active would be advantageous. \n  \nAims\nTo develop a basic foundation in core rock climbing techniques\, whilst climbing a variety of boulder problems & single pitch rock climbs. \nCourse Content\nOn the first morning we will discuss individual’s current experience and aspirations\, this will ensure the main topic areas can be covered and individual needs can be tailored for. Topic areas include: \n• FUNdamental movement skills on a variety of rock types.\n• Experience different disciplines of rock climbing.\n• Interpreting a bouldering/climbing guidebook and choice of routes.\n• Belaying\n• Descending from rock climbs by abseil \nHow to Register on the Rock Skills Scheme \nClick on below link to Rock Skills Participant Handbook for full information about the scheme\, the course fee includes the cost of registration. \nWhat Happens Next?\nAt the end of the course I can provide further advice and guidance on your journey to becoming a self-sufficient climber. \n*The course will be delivered by myself\, I am a full member of the Mountain Training Association (MTA)  British Mountaineering Council (BMC) and authorised training provider for Mountain Training Cymru. I hold the Rock Climbing Instructor (RCI)\, Climbing Wall Development Instructor (CWDI)\, Foundation Coach Award and Rope Rescue Technician. Maximum group size is 4: This ensures the maximum learning potential for individuals is achieved through hands on practical sessions. \n*Please contact myself via email with any course enquiries martinwall013@gmail.com or click on link below for booking page \n*Max Adventures is an accredited provider of the Rock Skills Scheme \n  \n \n  \n 
URL:https://www.maxadventures.co.uk/event/introduction-to-rock-climbing/
LOCATION:Snowdonia National Park
CATEGORIES:Rock Climbing
ATTACH;FMTTYPE=image/png:https://www.maxadventures.co.uk/wp-content/uploads/2019/12/abseil-rock-intro.png
ORGANIZER;CN="Martin Wall":MAILTO:mwall16@tiscali.co.uk
END:VEVENT
BEGIN:VEVENT
DTSTART;VALUE=DATE:20260822
DTEND;VALUE=DATE:20260824
DTSTAMP:20260423T173208
CREATED:20190205T212557Z
LAST-MODIFIED:20250929T204727Z
UID:506-1787356800-1787529599@www.maxadventures.co.uk
SUMMARY:Rock Skills - 2 Day Intermediate Course
DESCRIPTION:Rock Skills – 2 Day Intermediate Course\nThis course is aimed at people with some experience of climbing (indoors or outdoors) who want to improve their movement skills\, develop their rope work skills and learn about traditional protection. \nClimbing experience required:\nCompletion of a 1 day Rock Skills Introduction course or: \nHave logged 10 routes on walls or outdoor crags; and \nHave logged 10 belays of a fellow climber. \n  \nWhat does the Rock Skills Intermediate course cover? \nBackground and Planning – Choosing a suitable venue\, how to use guidebooks and mobile devices to find crags and routes\, crag etiquette and the work of the mountaineering councils.\nClimbing Skills – Warming up and injury avoidance\, developing your movement skills and widening your repertoire of climbing moves.\nFootwear and Equipment – Rock boot fit\, selecting the right equipment for improved performance and an introduction to climbing protection. \nTechnical Skills – Building anchors\, selecting runners\, ropework\, belaying\, holding falls\, lowering\, seconding a route and personal abseiling.\nEnvironmental Knowledge –  The impact of climbers at the crag\, ethics\, access and environmental considerations.\nHazards and Emergency Procedures – Identifying hazards\, managing risk when climbing\, abseiling and bouldering\, understanding common injuries\, how to get help and the role of Mountain Rescue. \n  \nBy the end of the course you can expect to:\n• Have covered the course content in a safe and enjoyable outdoor environment and classroom-style setting;\n• Have climbed outside for a good proportion of each day on an accessible crag; and\n• Be in a strong position to second a lead climber on natural rock and participate safely in a climbing session. \n  \nWhat Happens Next? \nAt the end of the course I can provide further advice and guidance on your journey to becoming a self-sufficient climber.\n*The course will be delivered by myself\, I am a full member of the Mountain Training Association (MTA) British Mountaineering Council (BMC) and authorised training provider for Mountain Training Cymru. I hold the Rock Climbing Instructor (RCI)\, Climbing Wall Development Instructor (CWDI)\, Foundation Coach Award and Rope Rescue Technician. Maximum group size is 4: This ensures the maximum learning potential for individuals is achieved through hands on practical sessions. \n*Please contact myself via email with any course enquiries: martinwall013@gmail.com or click on below link for bookings: \n\n  \n*Max Adventures is an accredited provider of the Rock Skills Scheme \n  \n 
URL:https://www.maxadventures.co.uk/event/rock-skills-2-day-intermediate-course/
LOCATION:Snowdonia National Park
CATEGORIES:Rock Climbing
ATTACH;FMTTYPE=image/png:https://www.maxadventures.co.uk/wp-content/uploads/2019/02/climbing.png
ORGANIZER;CN="Martin Wall":MAILTO:mwall16@tiscali.co.uk
END:VEVENT
END:VCALENDAR