BEGIN:VCALENDAR
VERSION:2.0
PRODID:-//Max Adventures - ECPv6.15.20//NONSGML v1.0//EN
CALSCALE:GREGORIAN
METHOD:PUBLISH
X-ORIGINAL-URL:https://www.maxadventures.co.uk
X-WR-CALDESC:Events for Max Adventures
REFRESH-INTERVAL;VALUE=DURATION:PT1H
X-Robots-Tag:noindex
X-PUBLISHED-TTL:PT1H
BEGIN:VTIMEZONE
TZID:UTC
BEGIN:STANDARD
TZOFFSETFROM:+0000
TZOFFSETTO:+0000
TZNAME:UTC
DTSTART:20250101T000000
END:STANDARD
END:VTIMEZONE
BEGIN:VEVENT
DTSTART;TZID=UTC:20260113T180000
DTEND;TZID=UTC:20260226T210000
DTSTAMP:20260423T171211
CREATED:20190410T211208Z
LAST-MODIFIED:20251218T210613Z
UID:529-1768327200-1772139600@www.maxadventures.co.uk
SUMMARY:Learn To Lead Climb - Indoors
DESCRIPTION:  \n \nLearn to Lead Climb – Indoors  \n3 X 2.5 hour evening sessions (Dates to be agreed with climbers)\nThis course is aimed at people with some prior experience of top rope climbing indoors and want to progress to lead climbing. \nPre Requisites \nIdeally A minimum of 12 months climbing experience and able to climb on top rope comfortably at Grade 5/6A \nSyllabus\n• Understand the inherent risks involved with lead climbing.\n• Practice lead belaying with a range of different devices\, including assisted braking devices.\n• Understand the principles of making an appropriate route choice.\n• Mental preparation before setting off.\n• Efficient lead climbing\, identifying key holds\, rests and challenging sections.\n• Use of leader placed and in situ quick draws.\n• Effective communication between leader and belayer.\n• Falling\, holding a fall and lowering to the ground.\n• Understand the different ropes and equipment suitable for lead climbing including their wear and handling characteristics. \nCost:\n£90 total + wall entrance fee \nWhat next?\nI can provide further advice and guidance on your journey to becoming a self-sufficient climber. \nLearn to Lead Sport (outdoors) is the next step in the Rock Skills pathway. \n  \n*The course will be delivered by myself\, I am a full member of the Mountain Training Association (MTA) and British Mountaineering Council (BMC). I hold the Rock Climbing Instructor (RCI) Climbing Wall Development Instructor (CWDI) and Foundation Coach awards. I am also an authorised provider of the Rock Skills Scheme for Mountain Training UK. Maximum group size is 2: This ensures the maximum learning potential for individuals is achieved through hands on practical sessions. \n \n  \n  \n  \n  \n 
URL:https://www.maxadventures.co.uk/event/learn-to-lead-climb-indoors/
LOCATION:The Boardroom Climbing\, Queensferry\, Chester\, United Kingdom
CATEGORIES:Indoor Climbing,Rock Climbing
ATTACH;FMTTYPE=image/jpeg:https://www.maxadventures.co.uk/wp-content/uploads/2019/04/IMG_20190220_213645-scaled-e1662643153844.jpg
END:VEVENT
END:VCALENDAR