BEGIN:VCALENDAR
VERSION:2.0
PRODID:-//Max Adventures - ECPv6.15.20//NONSGML v1.0//EN
CALSCALE:GREGORIAN
METHOD:PUBLISH
X-WR-CALNAME:Max Adventures
X-ORIGINAL-URL:https://www.maxadventures.co.uk
X-WR-CALDESC:Events for Max Adventures
REFRESH-INTERVAL;VALUE=DURATION:PT1H
X-Robots-Tag:noindex
X-PUBLISHED-TTL:PT1H
BEGIN:VTIMEZONE
TZID:UTC
BEGIN:STANDARD
TZOFFSETFROM:+0000
TZOFFSETTO:+0000
TZNAME:UTC
DTSTART:20250101T000000
END:STANDARD
END:VTIMEZONE
BEGIN:VEVENT
DTSTART;TZID=UTC:20261010T083000
DTEND;TZID=UTC:20261011T163000
DTSTAMP:20260423T154029
CREATED:20231003T215946Z
LAST-MODIFIED:20251218T210834Z
UID:3981-1791621000-1791736200@www.maxadventures.co.uk
SUMMARY:Navigation - Gold NNAS Award
DESCRIPTION:National Navigation Award Scheme (NNAS) – Gold Award\n  \nThe Gold Navigator Award is the highest qualification within the NNAS framework and builds on the skills acquired at the Bronze and Silver levels and adds techniques and skills for dealing with complex contour features both large and small. The course takes place in Snowdonia (Eryri) National Park. \nThe Gold National Navigation Award now includes pre- and post-course question papers. These will be provided to candidates on completion of booking. \nThe NNAS Gold Navigator Award is accredited by the Scottish Credit & Qualifications Framework (SCQF) at Level 6\, and 2 SCQF credit points are awarded on completion. \nGold courses are run by Course Directors who not only have plenty of top-level navigation experience but also have been on a special NNAS-run course in tutoring Gold courses. \nSyllabus \n                                                          —————————————————————————————————– \nUtilise the skills and techniques of the Bronze and Silver Awards in the context of Gold National Navigation Award navigation strategies. \nUtilise contours and fine detail as the prime method of navigation. \nAccurately: Follow a route\, judge distance\, check progress against time\, use relevant compass skills and maintain continuous map contact. \nUse back bearings and transits to confirm the current position. \nUse aspect of slope as an aid to relocation. \nSelect appropriate techniques within an overall navigation strategy. \nNavigate in intricate terrain in reduced visibility i.e. mist or darkness. \nSelect an appropriate\, safe route in relation to height gain and loss\, dangerous terrain and other major hazards. \nAssess the route ahead in the field in relation to prevailing conditions or changing circumstances (e.g. weather\, time\, daylight\, ability/fitness) and re-plan the route appropriately if necessary. \nShorten a route\, use an escape route and know emergency procedures. \nRecognise the occurrence of a navigational error within a few minutes and apply appropriate relocation techniques. \nSelect appropriate clothing\, equipment and first aid for walking in remote areas in all weather conditions. \nUnderstand the physical demands created by hill and moorland terrain in all weather conditions. \nUnderstand the effects of cold\, heat\, fatigue and discomfort on decision making and execution of a selected route. \nUnderstand the implications of climate change on the outdoor environment and be knowledgeable in practical steps to mitigate its effect. \nUnderstand the pros and cons of appropriate electronic navigation devices and describe/demonstrate their use in the context of Gold terrain. \n——————————————————————————————- \n  \nCourse details: \nThis course runs over two days. You must complete the full course\, pass the assessment and answer all questions included on the pre & post assessment criteria in order to achieve the Gold NNAS Award. The assessment will normally take place on the afternoon of Day 2. All training (and assessment) will be delivered practically in the outdoors rather than in a classroom. This is a ‘hands-on’ real navigation course. \n*Please contact myself via email with any course enquiries: martinwall013@gmail.com \nor click on link below for bookings: \n  \n \n  \n  \n 
URL:https://www.maxadventures.co.uk/event/nnas-gold-award/
CATEGORIES:Navigation,Uk Hill Wallking,UK Mountain Walking
ATTACH;FMTTYPE=image/png:https://www.maxadventures.co.uk/wp-content/uploads/2023/10/IMG_20220911_061446-PANO.png
END:VEVENT
END:VCALENDAR