BEGIN:VCALENDAR
VERSION:2.0
PRODID:-//Max Adventures - ECPv6.15.20//NONSGML v1.0//EN
CALSCALE:GREGORIAN
METHOD:PUBLISH
X-ORIGINAL-URL:https://www.maxadventures.co.uk
X-WR-CALDESC:Events for Max Adventures
REFRESH-INTERVAL;VALUE=DURATION:PT1H
X-Robots-Tag:noindex
X-PUBLISHED-TTL:PT1H
BEGIN:VTIMEZONE
TZID:UTC
BEGIN:STANDARD
TZOFFSETFROM:+0000
TZOFFSETTO:+0000
TZNAME:UTC
DTSTART:20250101T000000
END:STANDARD
END:VTIMEZONE
BEGIN:VEVENT
DTSTART;TZID=UTC:20260926T083000
DTEND;TZID=UTC:20260927T160000
DTSTAMP:20260423T154345
CREATED:20210101T181335Z
LAST-MODIFIED:20260405T195103Z
UID:947-1790411400-1790524800@www.maxadventures.co.uk
SUMMARY:Navigation - Silver NNAS Award
DESCRIPTION:  \nNational Navigation Award Scheme (NNAS) – Silver Award\n  \nThe Silver National Navigation Award is a two day course and develops skills acquired at Bronze Level so that you can navigate in open countryside using compass bearings and natural landforms. The course is ideal for participants who are confident in using a map to follow paths and tracks in lowland countryside terrain and want to learn how to navigate off path.  The course will cover: \nSetting and following compass bearings across open ground \nUsing pacing to measure distance \nEstimating the time needed for height gain \nUsing landforms like hills\, ridges\, spurs and valleys to navigate \nAdopting appropriate strategies for navigating from one point to another\, using techniques like aiming off and attack points. \n————————————————————————– \nThe NNAS Silver Navigator Award will take place in Snowdonia National Park and will involve periods where you’ll be navigating away from paths and tracks. The course is accredited by the Scottish Credit & Qualifications Framework (SCQF) at Level 5 and 2 SCQF credit points are awarded on completion. \n————————————————————————- \nSyllabus \nUtilise the skills and techniques of the Bronze Award in the context of Silver Award navigation strategies. \nRelate small hills\, small valleys\, prominent re-entrants and prominent spurs to their corresponding map contours. Use prominent hills\, ridges\, spurs and valleys as a means of navigation in good visibility. \nUse landforms and point features to orientate the map and as collecting and catching features. \nUse a compass to: Accurately follow a bearing; aim off; check the direction of handrails and other linear features. \nDeviate briefly from a compass bearing to avoid obstacles or difficult terrain and accurately regain the original line. \nUse back bearings to check route following accuracy. \nMeasure distance on the ground in varied\, open terrain using timing and pacing and make practical allowances for any discrepancies. \nSimplify legs using coarse navigation\, attack points and fine navigation. \nRecognise dangerous or difficult terrain on map and ground. \nPlan and implement navigational strategies based on the above skills. \nMaintain route finding accuracy in poor visibility or darkness. \nRecognise a navigation error within a few minutes and apply appropriate relocation techniques. \nUnderstand how personal fitness and nature of terrain affect route choice both at the planning stage and on the ground. \nUnderstand the potential consequences of fatigue and physical discomfort in demanding terrain and/or extreme weather conditions. \nSelect appropriate clothing\, equipment and first aid items for walking in open country in all weather conditions. \nDemonstrate an understanding of the Countryside Code\, current access legislation and the environmental impact of walkers on the countryside. \nUnderstand the responsibilities of walkers towards other countryside interests such as farming\, forestry and conservation. \n———————————————————- \nCourse details: \nThis course runs over two days. You must complete the full course and pass the assessment in order to achieve the Silver NNAS Award. The assessment will normally take place on the afternoon of Day 2. All training (and assessment) will be delivered practically in the outdoors rather than in a classroom. This is a ‘hands-on’ real navigation course. \n  \n*Please contact myself via email with any course enquiries: martinwall013@gmail.com or click on link below to book: \n  \n \n  \n  \n 
URL:https://www.maxadventures.co.uk/event/navigation-silver-nnas-award/
CATEGORIES:Navigation,Uk Hill Wallking,UK Mountain Walking
ATTACH;FMTTYPE=image/jpeg:https://www.maxadventures.co.uk/wp-content/uploads/2019/02/nav-pic.jpg
END:VEVENT
BEGIN:VEVENT
DTSTART;TZID=UTC:20261121T083000
DTEND;TZID=UTC:20261122T150000
DTSTAMP:20260423T154345
CREATED:20200921T215725Z
LAST-MODIFIED:20260204T210956Z
UID:824-1795249800-1795359600@www.maxadventures.co.uk
SUMMARY:Navigation - Bronze NNAS Award
DESCRIPTION:National Navigation Award Scheme (NNAS) – Bronze Award\n\nThe course takes place over 2 days in Snowdonia and will equip you to safely enjoy hillwalking and a range of other outdoor activities without getting lost. (Mountain Rescue estimate that 80% of accidents in the hills are the result of a simple navigational error).\n\nThe course is fun and interactive\, based entirely outdoors.\n\nThe Bronze National Navigation Award is a practical hands-on award. It is aimed at people with no navigation experience whether you are new to the outdoors or have been relying on others\, guidebooks or easy well-defined routes.\n\nIt is also the starting point for many Duke of Edinburgh students\, scouts and guides and cadets who are looking to develop their outdoor skills. NNAS Bronze Award is accredited by the Scottish Credit & Qualifications Framework (SCQF) at Level 4\, and 2 SCQF credit points are awarded on completion.\n\nYour entry onto the scheme is linked to the Mountain Training D-Log system\, enabling you to use a single system to record NNAS and progression to Hill and Mountain Leadership Awards if you should so desire.\n\nThe syllabus of the Bronze National Navigation Award teaches navigation in the countryside using paths tracks and other linear features. Basic map interpretation and compass work are also included.\n  \n————————————————————————- \nSyllabus \nNavigate using a variety of maps and scales. \nUse 4 and 6 figure grid references with worded descriptions to define the position of a map feature and to locate a feature on the ground. \nOrientate the map using handrails\, obvious point features and major landforms. \nUse linear features (e.g. paths\, tracks\, clear boundaries) as handrails in simple navigation exercises. \nRelate prominent landforms such as large hills and valleys to corresponding contour information on the map. \nOrientate the map by aligning a compass needle against grid north and be aware that magnetic variation causes an inaccuracy. \nUse an orientated map to confirm the direction of travel. \nUse clearly identifiable features to confirm position along the route and to recognise when the target has been overshot. \nMeasure horizontal distance on the map and estimate distance on the ground using timing\, pacing and simple visual judgements e.g.100m. \nPlan and implement simple routes and navigation strategies based on the above skills. \nRecognise a navigation error within a few minutes and apply simple relocation techniques using handrails and prominent features. \nDemonstrate an awareness of local and national access issues\, access legislation\, personal responsibilities and the Countryside Code. \nDemonstrate appropriate knowledge of walking equipment\, safety equipment and emergency procedures. \n  \n——————————————————— \nCourse details: \nThis course runs over two days. You must complete the full course in order to achieve the Bronze NNAS Award. All training (and assessment) will be delivered practically in the outdoors rather than in a classroom. This is a ‘hands-on’ real navigation course. \n*Please contact myself via email with any course enquiries: martinwall013@gmail.com \nor click on link below for bookings: \n \n  \n  \n 
URL:https://www.maxadventures.co.uk/event/navigation-bronze-nnas-award/
CATEGORIES:Navigation,Uk Hill Wallking
ATTACH;FMTTYPE=image/jpeg:https://www.maxadventures.co.uk/wp-content/uploads/2020/09/bronze-nav-final.jpg
END:VEVENT
END:VCALENDAR